Workbook
Name AsBuilt: System!$B$22:$B$23
Name Calibration: System!$E$55:$E$56
Name CertAddress_1: 'Project Details'!$D$15
Name CertAddress_2: 'Project Details'!$D$16
Name CertCCModule: 'Copper Crossconnect'!$D$9
Name CertCSPNr: 'Project Details'!$L$10
Name CertCuCrossconnectsNumber: 'Copper Crossconnect'!$D$11
Name CertCuLinksNumber: 'Copper Links'!$C$11
Name CertCuModule: 'Copper Crossconnect'!$D$9
Name CertCuModule: 'Copper Links'!$C$9
Name CertCuNumber: 'Copper Crossconnect'!$D$11
Name CertCustomerName: 'Project Details'!$D$13
Name CertEndDate: 'Project Details'!$D$20
Name CertFibreModule: Fibre!$D$9
Name CertFibreNumber: Fibre!$D$10
Name CertInstaller: 'Project Details'!$L$9
Name CertPostcode: 'Project Details'!$F$17
Name CertReference: 'Project Details'!$D$21
Name CertStreet: 'Project Details'!$D$14
Name CertStreetNr: 'Project Details'!$F$14
Name CertTown: 'Project Details'!$D$17
Name Countries: System!$G$3:$G$252
Name CrossConnectConfig: System!$F$6:$F$8
Name CuCableBrand: System!$D$16:$D$25
Name CuCableType: System!$E$16:$E$25
Name CuChannelConfiguration: System!$E$6:$E$12
Name CuPatchBrand: System!$F$31:$F$40
Name CuPatchType: System!$E$33:$E$44
Name CuPLorChannel: System!$D$47:$D$49
Name CuSingleEndPatchcordType: System!$D$31:$D$35
Name CuTesterType: System!$C$47:$C$55
Name CuTestFileType: System!$F$47:$F$53
Name CuTestPatchLength: System!$E$47:$E$51
Name CuWarrantyModule: System!$D$6:$D$11
Name FibreCableBrand: System!$B$66:$B$72
Name FibreCableType: System!$C$68:$C$81
Name FibreConnectivityBrand: System!$D$66:$D$67
Name FibreConnectivityMethod: System!$F$66:$F$69
Name FibreConnectivityType: System!$E$66:$E$78
Name FibreTesterType: System!$A$85:$A$87
Name FibreTestFileType: System!$C$85:$C$92
Name FibreWarrantyModule: System!$A$66:$A$74
Name Language: General!$L$21
Name Language: General!$L$21
Name LanguageChoice: Language!$A$1:$O$125
Name LanguageRange: System!$B$3:$B$16
Name Media: System!$C$4:$C$6
Name MediaChoice: General!$L$22
Name NA: System!$A$49
Name NotesLanguage: NotesTranslate!$A$1:$O$25
Name OLE_LINK1: Notes!$A$1
Name SectorOfActivity: System!$A$3:$A$14
Name TestPatchLength: System!$B$85:$B$91

Sheet General
G2: =HLOOKUP(Language,LanguageChoice,32,FALSE) -> LANmark Warranty Certification Submission Form
G4: =HLOOKUP(Language,LanguageChoice,116,FALSE) -> Send to : | L4: warranty.ncs@aginode.net
G5: =HLOOKUP(Language,LanguageChoice,113,FALSE) -> Please use ONE submission form per type of media !!!
L6: =HLOOKUP(Language,LanguageChoice,119,FALSE) -> (< 15MB) Please use a filetransfer service of your choice for larger files | O6: Aginode Belgium NV/SA Warranty Department Alsembergsesteenweg 2 B3 B-1501 Buizingen Belgium
D8: =Language!G1 -> Español | H8: =Language!I1 -> Nederlands | M8: =Language!E1 -> Deutsch
D9: =HLOOKUP(D8,LanguageChoice,103,FALSE) -> Seleccione de bajo su idioma y el medio, y complete las pestañas requeridas | H9: =HLOOKUP(H8,LanguageChoice,103,FALSE) -> Selecteer alstublieft uw taal en media hieronder en vul de tabs die nodig zijn in | M9: =HLOOKUP(M8,LanguageChoice,103,FALSE) -> Bitte wählen Sie unten Ihre Sprache und die Verkabelungslösung und vervollständigen Sie die erforderlichen Tabs
D11: =Language!N1 -> 대한민국 | H11: =Language!J1 -> Polski | M11: =Language!D1 -> Français
D12: =HLOOKUP(D11,LanguageChoice,103,FALSE) -> 원하는 언어와 미디어를 선택하고 Tab의 입력란을 완성 하세요 | H12: =HLOOKUP(H11,LanguageChoice,103,FALSE) -> Proszę wybrać język oraz media i wypełnić wymagane pola | M12: =HLOOKUP(M11,LanguageChoice,103,FALSE) -> Prière de selectionner la langue, le type de lien et compléter les filtres
D14: =Language!L1 -> Norsk | H14: =Language!H1 -> Русский | M14: =Language!K1 -> Svenska
D15: =HLOOKUP(D14,LanguageChoice,103,FALSE) -> Vennligst velg språk og media under, og fullfør tabellene | H15: =HLOOKUP(H14,LanguageChoice,103,FALSE) -> Пожалуйста, выберите ниже язык и тип среды передачи. Заполните требуемые поля. | M15: =HLOOKUP(M14,LanguageChoice,103,FALSE) -> Välj språk och typ av media i listan nedan
D17: =Language!M1 -> English(US) | H17: =Language!C1 -> English | M17: =Language!O1 -> 中国的
D18: =HLOOKUP(D17,LanguageChoice,103,FALSE) -> Please select your language and media below and complete the tabs needed | H18: =HLOOKUP(H17,LanguageChoice,103,FALSE) -> Please select your language and media below and complete the tabs needed | M18: =HLOOKUP(M17,LanguageChoice,103,FALSE) -> 请选择你的语言和类型并完成以下的需求
D20: =Language!F1 -> Português | I20: =HLOOKUP(Language,LanguageChoice,15,FALSE) -> Date | O20: DD/MM/YYYY | P20: #
D21: =HLOOKUP(D20,LanguageChoice,103,FALSE) -> Selecione seu idioma e média abaixo de forma a completar informações necessárias | I21: =HLOOKUP(Language,LanguageChoice,26,FALSE) -> Language | L21: English | P21: #
I22: =HLOOKUP(Language,LanguageChoice,85,FALSE) -> Media | P22: #
H24: =HLOOKUP(Language,LanguageChoice,112,FALSE) -> Please Confirm
B25: =HLOOKUP(Language,LanguageChoice,91,FALSE) -> Legend
C26: =HLOOKUP(Language,LanguageChoice,89,FALSE) -> Please select from list | H26: =HLOOKUP(Language,LanguageChoice,108,FALSE) -> This form is a warranty submission for one type of media only. | Q26: #
C27: =HLOOKUP(Language,LanguageChoice,90,FALSE) -> Additional information | H27: =HLOOKUP(Language,LanguageChoice,109,FALSE) -> Electronic test results are included with the submission. | Q27: #
B28: # | C28: =HLOOKUP(Language,LanguageChoice,92,FALSE) -> Mandatory Field | H28: =HLOOKUP(Language,LanguageChoice,110,FALSE) -> The appropriate Installation Guides and Field Test Procedures have been complied with. | Q28: #
C29: Version 3.3 - 7 April 2026 | H29: =HLOOKUP(Language,LanguageChoice,111,FALSE) -> The number of test results included is equal to the number of links requested and they are all passes with no duplicate cable IDs. | Q29: #
C30: ! | D30: Please refer to the LANmark Certified System Warranty brochure for the Terms and Conditions of our warranty program | P30: !
E31: The document is available for download from the warranty section on our www.aginode.net website

Sheet Project Details
D2: =HLOOKUP(Language,LanguageChoice,32,FALSE) -> LANmark Warranty Certification Submission Form | K2: =HLOOKUP(Language,LanguageChoice,91,FALSE) -> Legend
L3: =HLOOKUP(Language,LanguageChoice,89,FALSE) -> Please select from list
L4: =HLOOKUP(Language,LanguageChoice,90,FALSE) -> Additional information
K5: # | L5: =HLOOKUP(Language,LanguageChoice,92,FALSE) -> Mandatory Field
K6: Version 3.3 - 7 April 2026
D7: =HLOOKUP(Language,LanguageChoice,12,FALSE) -> Customer Details | K7: =HLOOKUP(Language,LanguageChoice,24,FALSE) -> Installer Details
B9: =HLOOKUP(Language,LanguageChoice,13,FALSE) -> Customer Name | G9: # | J9: =HLOOKUP(Language,LanguageChoice,8,FALSE) -> Company Name | O9: #
B10: =HLOOKUP(Language,LanguageChoice,33,FALSE) -> Sector of Activity | G10: # | J10: =HLOOKUP(Language,LanguageChoice,11,FALSE) -> Aginode CSP Nr. | O10: #
J11: =HLOOKUP(Language,LanguageChoice,22,FALSE) -> Installer Address Street + Nr. | O11: #
D12: =HLOOKUP(Language,LanguageChoice,31,FALSE) -> Project Information | J12: =HLOOKUP(Language,LanguageChoice,3,FALSE) -> Address 1
B13: =HLOOKUP(Language,LanguageChoice,14,FALSE) -> Customer title to be used on certificate | G13: # | J13: =HLOOKUP(Language,LanguageChoice,4,FALSE) -> Address 2
B14: =HLOOKUP(Language,LanguageChoice,30,FALSE) -> Project Address Street + Nr. | G14: # | J14: =HLOOKUP(Language,LanguageChoice,40,FALSE) -> Town + Postcode | O14: #
B15: =HLOOKUP(Language,LanguageChoice,3,FALSE) -> Address 1 | J15: =HLOOKUP(Language,LanguageChoice,10,FALSE) -> Country | O15: #
B16: =HLOOKUP(Language,LanguageChoice,4,FALSE) -> Address 2
B17: =HLOOKUP(Language,LanguageChoice,40,FALSE) -> Town + Postcode | G17: # | K17: =HLOOKUP(Language,LanguageChoice,49,FALSE) -> Project Supervisor
B18: =HLOOKUP(Language,LanguageChoice,10,FALSE) -> Country | G18: # | J18: =HLOOKUP(Language,LanguageChoice,34,FALSE) -> Project Supervisor's Name | O18: #
B19: =HLOOKUP(Language,LanguageChoice,20,FALSE) -> Installation Start Date | E19: dd/mm/yyyy | G19: # | J19: =HLOOKUP(Language,LanguageChoice,35,FALSE) -> Supervisor's Registration Nr.
B20: =HLOOKUP(Language,LanguageChoice,19,FALSE) -> Installation Completion Date | E20: dd/mm/yyyy | G20: #
B21: =HLOOKUP(Language,LanguageChoice,25,FALSE) -> Job Reference Number (For the certificate) | I21: =HLOOKUP(Language,LanguageChoice,16,FALSE) -> Design Company
J22: =HLOOKUP(Language,LanguageChoice,8,FALSE) -> Company Name
D23: =HLOOKUP(Language,LanguageChoice,107,FALSE) -> Documentation | J23: =HLOOKUP(Language,LanguageChoice,17,FALSE) -> Design Company Address Street + Nr.
B24: =HLOOKUP(Language,LanguageChoice,95,FALSE) -> Where are As-Built documents kept? | G24: # | J24: =HLOOKUP(Language,LanguageChoice,3,FALSE) -> Address 1
J25: =HLOOKUP(Language,LanguageChoice,4,FALSE) -> Address 2
J26: =HLOOKUP(Language,LanguageChoice,40,FALSE) -> Town + Postcode
D27: =HLOOKUP(Language,LanguageChoice,9,FALSE) -> Contact for Certificate queries | J27: =HLOOKUP(Language,LanguageChoice,10,FALSE) -> Country
B29: =HLOOKUP(Language,LanguageChoice,27,FALSE) -> Name | G29: # | K29: =HLOOKUP(Language,LanguageChoice,44,FALSE) -> Distributor
B30: =HLOOKUP(Language,LanguageChoice,18,FALSE) -> Email | G30: # | J30: =HLOOKUP(Language,LanguageChoice,45,FALSE) -> Distributor Name
B31: =HLOOKUP(Language,LanguageChoice,82,FALSE) -> Telephone Number | G31: #
I32: =HLOOKUP(Language,LanguageChoice,6,FALSE) -> End-user contact details
B33: =HLOOKUP(Language,LanguageChoice,46,FALSE) -> Additional Information | J33: =HLOOKUP(Language,LanguageChoice,27,FALSE) -> Name | O33: #
J34: =HLOOKUP(Language,LanguageChoice,8,FALSE) -> Company Name | O34: #
J35: =HLOOKUP(Language,LanguageChoice,5,FALSE) -> Address Street + Nr. | O35: #
J36: =HLOOKUP(Language,LanguageChoice,3,FALSE) -> Address 1
J37: =HLOOKUP(Language,LanguageChoice,18,FALSE) -> Email | O37: #
J38: =HLOOKUP(Language,LanguageChoice,40,FALSE) -> Town + Postcode | O38: #
J39: =HLOOKUP(Language,LanguageChoice,10,FALSE) -> Country | O39: #
B41: ! | C41: Please refer to the LANmark Certified System Warranty brochure for terms and conditions of our warranty program | O41: !
C42: The document is available for download from the warranty section on our www.aginode.net website

Sheet Copper Links
C2: =HLOOKUP(Language,LanguageChoice,88,FALSE) -> Copper Installation Information | F2: =HLOOKUP(Language,LanguageChoice,91,FALSE) -> Legend
G3: =HLOOKUP(Language,LanguageChoice,89,FALSE) -> Please select from list
C4: =IF( Language="Русский",System!$B$106,IF(Language = "中国的",System!B$106,IF(Language="대한민국",System!$B$106,""))) | G4: =HLOOKUP(Language,LanguageChoice,90,FALSE) -> Additional information
C5: =HLOOKUP(Language,LanguageChoice,114,FALSE) -> Please use ONE submission form per type of media and per channel configuration !!! | F5: # | G5: =HLOOKUP(Language,LanguageChoice,92,FALSE) -> Mandatory Field
F6: Version 3.3 - 7 April 2026
F7: 2 connector : panel-to-panel
D8: =HLOOKUP(Language,LanguageChoice,68,FALSE) -> Other
B9: =HLOOKUP(Language,LanguageChoice,41,FALSE) -> Warranty Module Required | E9: #
B10: =HLOOKUP(Language,LanguageChoice,67,FALSE) -> 2, 3 or 4 Connector Channel configuration | E10: #
B11: =HLOOKUP(Language,LanguageChoice,28,FALSE) -> Number of Links Installed | D11: #
C12: =IF(LEFT(C10,5)= "Cross", HLOOKUP(Language,LanguageChoice,100,FALSE),"")
C13: =HLOOKUP(Language,LanguageChoice,57,FALSE) -> Cable | F13: 2 connector : Interconnect - TO
B14: =HLOOKUP(Language,LanguageChoice,50,FALSE) -> Cable Brand | E14: #
B15: =HLOOKUP(Language,LanguageChoice,51,FALSE) -> Cable Type | E15: #
C16: =IF(LEFT(C14,5)= "Essen", HLOOKUP(Language,LanguageChoice,120,FALSE),"")
C17: =HLOOKUP(Language,LanguageChoice,58,FALSE) -> Connectivity at Patch Panel side
B18: =HLOOKUP(Language,LanguageChoice,52,FALSE) -> Connectivity Brand | E18: #
B19: =HLOOKUP(Language,LanguageChoice,53,FALSE) -> Connectivity Type | E19: # | F19: MPTL : Interconnect - Modular Plug
C21: =HLOOKUP(Language,LanguageChoice,59,FALSE) -> Connectivity at Telecom Outlet/Patch Panel/Modular Plug side
B22: =HLOOKUP(Language,LanguageChoice,52,FALSE) -> Connectivity Brand | E22: #
B23: =HLOOKUP(Language,LanguageChoice,53,FALSE) -> Connectivity Type | E23: #
C25: =HLOOKUP(Language,LanguageChoice,60,FALSE) -> Connectivity at Consolidation Point side | F25: 3 connector : Crossconnect - TO
B26: =HLOOKUP(Language,LanguageChoice,56,FALSE) -> Single-ended Patchcord Type | E26: =IF(ISNUMBER(SEARCH("Consolidation",$C$10)),"#", "")
B27: =HLOOKUP(Language,LanguageChoice,52,FALSE) -> Connectivity Brand | E27: =IF(ISNUMBER(SEARCH("Consolidation",$C$10)),"#", "")
B28: =HLOOKUP(Language,LanguageChoice,53,FALSE) -> Connectivity Type | E28: =IF(ISNUMBER(SEARCH("Consolidation",$C$10)),"#", "")
C30: =HLOOKUP(Language,LanguageChoice,61,FALSE) -> Connectivity at Cross-connect panel (Service Presentation panel)
B31: =HLOOKUP(Language,LanguageChoice,56,FALSE) -> Single-ended Patchcord Type | E31: =IF(ISNUMBER(SEARCH("Crossconnect",$C$10)),"#", "") | F31: 3 connector : Interconnect - CP - TO
B32: =HLOOKUP(Language,LanguageChoice,52,FALSE) -> Connectivity Brand | E32: =IF(ISNUMBER(SEARCH("Crossconnect",$C$10)),"#", "")
B33: =HLOOKUP(Language,LanguageChoice,53,FALSE) -> Connectivity Type | E33: =IF(ISNUMBER(SEARCH("Crossconnect",$C$10)),"#", "")
C35: =HLOOKUP(Language,LanguageChoice,98,FALSE) -> Testing Information for Links
B36: =HLOOKUP(Language,LanguageChoice,38,FALSE) -> Tester Type | E36: #
B37: =HLOOKUP(Language,LanguageChoice,29,FALSE) -> Permanent Link or Channel | E37: # | F37: 4 connector : Crossconnect - CP - TO
B38: =HLOOKUP(Language,LanguageChoice,37,FALSE) -> Test Patch Cord Length | E38: =IF(ISNUMBER(SEARCH("Permanent",$C$37)),"", "#") -> #
B39: =HLOOKUP(Language,LanguageChoice,36,FALSE) -> Electronic Test File Type | E39: #
B40: =HLOOKUP(Language,LanguageChoice,96,FALSE) -> Are the testers used within calibration period ? | E40: #

Sheet Copper Crossconnect
D2: =HLOOKUP(Language,LanguageChoice,102,FALSE) -> Copper Crossconnect Information
D4: =IF( Language = "Русский",System!$B$106,IF(Language = "中国的",System!$B$106,IF(Language = "대한민국",System!$B$106,"")))
D5: =HLOOKUP(Language,LanguageChoice,114,FALSE) -> Please use ONE submission form per type of media and per channel configuration !!!
E8: =HLOOKUP(Language,LanguageChoice,68,FALSE) -> Other
C9: =HLOOKUP(Language,LanguageChoice,41,FALSE) -> Warranty Module Required | F9: #
C10: =HLOOKUP(Language,LanguageChoice,67,FALSE) -> 2, 3 or 4 Connector Channel configuration | F10: #
C11: =HLOOKUP(Language,LanguageChoice,101,FALSE) -> Number of Cross Connects installed. | E11: #
D13: =HLOOKUP(Language,LanguageChoice,61,FALSE) -> Connectivity at Cross-connect panel (Service Presentation panel)
C14: =HLOOKUP(Language,LanguageChoice,56,FALSE) -> Single-ended Patchcord Type | F14: #
C15: =HLOOKUP(Language,LanguageChoice,52,FALSE) -> Connectivity Brand | F15: #
C16: =HLOOKUP(Language,LanguageChoice,53,FALSE) -> Connectivity Type | F16: #
D18: =HLOOKUP(Language,LanguageChoice,98,FALSE) -> Testing Information for Links
C19: =HLOOKUP(Language,LanguageChoice,38,FALSE) -> Tester Type | F19: #
C20: =HLOOKUP(Language,LanguageChoice,37,FALSE) -> Test Patch Cord Length | F20: =IF(ISNUMBER(SEARCH("Permanent",#REF!)),"", "#") -> #
C21: =HLOOKUP(Language,LanguageChoice,36,FALSE) -> Electronic Test File Type | F21: #
B22: =HLOOKUP(Language,LanguageChoice,96,FALSE) -> Are the testers used within calibration period ? | F22: #
B24: =HLOOKUP(Language,LanguageChoice,91,FALSE) -> Legend
C25: =HLOOKUP(Language,LanguageChoice,89,FALSE) -> Please select from list
C26: =HLOOKUP(Language,LanguageChoice,90,FALSE) -> Additional information
B27: # | C27: =HLOOKUP(Language,LanguageChoice,92,FALSE) -> Mandatory Field
B28: Version 3.3 - 7 April 2026

Sheet Fibre
D2: =HLOOKUP(Language,LanguageChoice,87,FALSE) -> Fibre Installation Information
D4: =IF( Language="Русский",System!$B$106,IF(Language = "中国的",System!B$106,IF(Language="대한민국",System!$B$106,"")))
D5: =HLOOKUP(Language,LanguageChoice,115,FALSE) -> Please use ONE submission form per type of media and per fibre type !!!
E8: =HLOOKUP(Language,LanguageChoice,68,FALSE) -> Other
C9: =HLOOKUP(Language,LanguageChoice,41,FALSE) -> Warranty Module Required | I9: #
C10: =HLOOKUP(Language,LanguageChoice,28,FALSE) -> Number of Links Installed | E10: #
D12: =HLOOKUP(Language,LanguageChoice,57,FALSE) -> Cable
C13: =HLOOKUP(Language,LanguageChoice,50,FALSE) -> Cable Brand | I13: #
C14: =HLOOKUP(Language,LanguageChoice,51,FALSE) -> Cable Type | I14: #
D16: =HLOOKUP(Language,LanguageChoice,63,FALSE) -> Connectivity
D17: =HLOOKUP(Language,LanguageChoice,65,FALSE) -> A-Side
C18: =HLOOKUP(Language,LanguageChoice,52,FALSE) -> Connectivity Brand | I18: #
C19: =HLOOKUP(Language,LanguageChoice,53,FALSE) -> Connectivity Type | I19: #
C20: =HLOOKUP(Language,LanguageChoice,62,FALSE) -> Termination Method | I20: #
D21: =HLOOKUP(Language,LanguageChoice,66,FALSE) -> B-Side
C22: =HLOOKUP(Language,LanguageChoice,52,FALSE) -> Connectivity Brand | I22: #
C23: =HLOOKUP(Language,LanguageChoice,53,FALSE) -> Connectivity Type | I23: #
C24: =HLOOKUP(Language,LanguageChoice,62,FALSE) -> Termination Method | I24: #
D26: =HLOOKUP(Language,LanguageChoice,97,FALSE) -> Testing Information for Fibre
C27: =HLOOKUP(Language,LanguageChoice,38,FALSE) -> Tester Type | I27: #
C28: =HLOOKUP(Language,LanguageChoice,37,FALSE) -> Test Patch Cord Length | I28: #
C29: =HLOOKUP(Language,LanguageChoice,36,FALSE) -> Electronic Test File Type | I29: #
C30: =HLOOKUP(Language,LanguageChoice,64,FALSE) -> Software name and version used to save results | I30: #
C31: =HLOOKUP(Language,LanguageChoice,96,FALSE) -> Are the testers used within calibration period ? | I31: #
B33: =HLOOKUP(Language,LanguageChoice,91,FALSE) -> Legend
C34: =HLOOKUP(Language,LanguageChoice,89,FALSE) -> Please select from list
C35: =HLOOKUP(Language,LanguageChoice,90,FALSE) -> Additional information
B36: # | C36: =HLOOKUP(Language,LanguageChoice,92,FALSE) -> Mandatory Field
B37: Version 3.3 - 7 April 2026

Sheet Output
A1: ='Project Details'!$K$6 -> Version 3.3 - 7 April 2026 | B1: =General!$L$21 -> English | C1: =General!$L$20 -> 0 | D1: ='Project Details'!$D$9 -> 0 | E1: ='Project Details'!D10 -> 0 | F1: ='Project Details'!$D$13 -> 0 | G1: ='Project Details'!$D$19 -> 0 | H1: ='Project Details'!$D$20 -> 0 | I1: ='Project Details'!$D$21 -> 0 | J1: =General!$L$22 -> 0 | K1: ='Project Details'!$D$33 -> 0 | L1: ='Project Details'!$K$9 -> 0 | M1: ='Project Details'!$K$10 -> 0 | N1: ='Project Details'!$K$18 -> 0 | O1: ='Project Details'!$K$19 -> 0 | P1: ='Project Details'!$K$22 -> 0 | Q1: ='Project Details'!$K$30 -> 0 | R1: ='Project Details'!$K$33 -> 0 | S1: ='Project Details'!$K$34 -> 0 | T1: ='Project Details'!$D$29 -> 0 | U1: ='Project Details'!$D$30 -> 0 | V1: ='Project Details'!$D$31 -> 0 | W1: ='Project Details'!$D$14 -> 0 | X1: ='Project Details'!$F$14 -> 0 | Y1: ='Project Details'!$D$15 -> 0 | Z1: ='Project Details'!$D$16 -> 0 | AA1: ='Project Details'!$D$17 -> 0 | AB1: ='Project Details'!$F$17 -> 0 | AC1: ='Project Details'!$D$18 -> 0 | AD1: ='Project Details'!$K$11 -> 0 | AE1: ='Project Details'!$N$11 -> 0 | AF1: ='Project Details'!$K$12 -> 0 | AG1: ='Project Details'!$K$13 -> 0 | AH1: ='Project Details'!$K$14 -> 0 | AI1: ='Project Details'!$N$14 -> 0 | AJ1: ='Project Details'!$K$15 -> 0 | AK1: ='Project Details'!$K$23 -> 0 | AL1: ='Project Details'!$N$23 -> 0 | AM1: ='Project Details'!$K$24 -> 0 | AN1: ='Project Details'!$K$25 -> 0 | AO1: ='Project Details'!$K$26 -> 0 | AP1: ='Project Details'!$N$26 -> 0 | AQ1: ='Project Details'!$K$27 -> 0 | AR1: ='Project Details'!$K$35 -> 0 | AS1: ='Project Details'!$N$35 -> 0 | AT1: ='Project Details'!$K$36 -> 0 | AU1: ='Project Details'!$K$37 -> 0 | AV1: ='Project Details'!$K$38 -> 0 | AW1: ='Project Details'!$N$38 -> 0 | AX1: ='Project Details'!$K$39 -> 0 | AY1: ='Copper Links'!$C$9 -> 0 | AZ1: ='Copper Links'!$C$10 -> 0 | BA1: ='Copper Links'!$C$11 -> 0 | BB1: ='Copper Links'!$C$14 -> 0 | BC1: ='Copper Links'!$C$15 -> 0 | BD1: ='Copper Links'!$C$18 -> 0 | BE1: ='Copper Links'!$C$19 -> 0 | BF1: ='Copper Links'!$C$22 -> 0 | BG1: ='Copper Links'!$C$23 -> 0 | BH1: ='Copper Links'!$C$26 -> 0 | BI1: ='Copper Links'!$C$27 -> 0 | BJ1: ='Copper Links'!$C$28 -> 0 | BK1: ='Copper Links'!$C$31 -> 0 | BL1: ='Copper Links'!$C$32 -> 0 | BM1: ='Copper Links'!$C$33 -> 0 | BN1: ='Copper Links'!$C$36 -> 0 | BO1: ='Copper Links'!$C$37 -> 0 | BP1: ='Copper Links'!$C$38 -> 0 | BQ1: ='Copper Links'!$C$39 -> 0 | BR1: =Fibre!$D$9 -> 0 | BS1: =Fibre!$D$10 -> 0 | BT1: =Fibre!$D$13 -> 0 | BU1: =Fibre!D14 -> 0 | BV1: =Fibre!$D$18 -> 0 | BW1: =Fibre!$D$19 -> 0 | BX1: =Fibre!$D$20 -> 0 | BY1: =Fibre!$D$22 -> 0 | BZ1: =Fibre!$D$23 -> 0 | CA1: =Fibre!$D$24 -> 0 | CB1: =Fibre!$D$27 -> 0 | CC1: =Fibre!$D$28 -> 0 | CD1: =Fibre!$D$29 -> 0 | CE1: =Fibre!$D$30 -> 0 | CF1: ='Copper Links'!$D$9 -> 0 | CG1: ='Copper Links'!$D$10 -> 0 | CH1: ='Copper Links'!$D$14 -> 0 | CI1: ='Copper Links'!$D$15 -> 0 | CJ1: ='Copper Links'!$D$18 -> 0 | CK1: ='Copper Links'!$D$19 -> 0 | CL1: ='Copper Links'!$D$22 -> 0 | CM1: ='Copper Links'!$D$23 -> 0 | CN1: ='Copper Links'!$D$26 -> 0 | CO1: ='Copper Links'!$D$27 -> 0 | CP1: ='Copper Links'!$D$28 -> 0 | CQ1: ='Copper Links'!$D$31 -> 0 | CR1: ='Copper Links'!$D$32 -> 0 | CS1: ='Copper Links'!$D$33 -> 0 | CT1: ='Copper Links'!$D$36 -> 0 | CU1: ='Copper Links'!$D$37 -> 0 | CV1: ='Copper Links'!$D$38 -> 0 | CW1: ='Copper Links'!$D$39 -> 0 | CX1: =Fibre!$E$9 -> 0 | CY1: =Fibre!$E$13 -> 0 | CZ1: =Fibre!$E14 -> 0 | DA1: =Fibre!$E$18 -> 0 | DB1: =Fibre!$E$19 -> 0 | DC1: =Fibre!$E$20 -> 0 | DD1: =Fibre!$E$22 -> 0 | DE1: =Fibre!$E$23 -> 0 | DF1: =Fibre!$E$24 -> 0 | DG1: =Fibre!$E$27 -> 0 | DH1: =Fibre!$E$28 -> 0 | DI1: =Fibre!$E$29 -> 0 | DJ1: =Fibre!$E$30 -> 0 | DK1: ='Copper Crossconnect'!$D$9 -> 0 | DL1: ='Copper Crossconnect'!$D$10 -> 0 | DM1: ='Copper Crossconnect'!$D$11 -> 0 | DN1: ='Copper Crossconnect'!$D$14 -> 0 | DO1: ='Copper Crossconnect'!$D$15 -> 0 | DP1: ='Copper Crossconnect'!$D$16 -> 0 | DQ1: ='Copper Crossconnect'!$D$19 -> 0 | DR1: NA | DS1: ='Copper Crossconnect'!$D$20 -> 0 | DT1: ='Copper Crossconnect'!$D$21 -> 0 | DU1: ='Copper Crossconnect'!$E$9 -> 0 | DV1: ='Copper Crossconnect'!$E$10 -> 0 | DW1: ='Copper Crossconnect'!$E$14 -> 0 | DX1: ='Copper Crossconnect'!$E$15 -> 0 | DY1: ='Copper Crossconnect'!$E$16 -> 0 | DZ1: ='Copper Crossconnect'!$E$19 -> 0 | EA1: NA | EB1: ='Copper Crossconnect'!$E$20 -> 0 | EC1: ='Copper Crossconnect'!$E$21 -> 0 | ED1: ='Copper Links'!$C$40 -> 0 | EE1: ='Copper Links'!$D$40 -> 0 | EF1: ='Copper Crossconnect'!$D$22 -> 0 | EG1: ='Copper Crossconnect'!$E$22 -> 0 | EH1: =Fibre!D31 -> 0 | EI1: =Fibre!E31 -> 0 | EJ1: =General!P26 -> 0 | EK1: =General!P27 -> 0 | EL1: =General!P28 -> 0 | EM1: =General!P29 -> 0
A2: Form Version | B2: Language | C2: FormDate | D2: Customer Name | E2: Sector of Activity | F2: Certificate Customer Name | G2: Installation Start Date | H2: Installation Completion Date | I2: Job Reference | J2: Media | K2: Additional Information | L2: Installer Name | M2: Installer CSP Nr | N2: Surervisor Name | O2: Supervisor Nr | P2: DesignerName | Q2: Distributor Name | R2: Send Name | S2: Send Company | T2: Contact Name | U2: Contact email | V2: Contact Phone | W2: Customer Street | X2: Customer Street Nr. | Y2: Customer Address 1 | Z2: Customer Address 2 | AA2: Customer Town | AB2: Customer PC | AC2: Customer Country | AD2: Installer Street | AE2: Installer Street Nr. | AF2: Installer Address 1 | AG2: Installer Address 2 | AH2: Installer Town | AI2: Installer PC | AJ2: Installer Country | AK2: Designer Street | AL2: Designer Street Nr. | AM2: Designer Address 1 | AN2: Designer Address 2 | AO2: Designer Town | AP2: Designer PC | AQ2: Designer Country | AR2: Send Street | AS2: Send Street Nr. | AT2: Send Address 1 | AU2: Send Address 2 | AV2: Send Town | AW2: Send PC | AX2: Send Country | AY2: Warranty Module Required | AZ2: Channel Configuration | BA2: Number of Links Installed | BB2: Cable Brand | BC2: Cable Type | BD2: Patch PanelConnectivity Brand | BE2: Patch Panel Connectivity Type | BF2: Telecom Outlet Connectivity Brand | BG2: Telecom Outlet Connectivity Type | BH2: Consolidation Point Single-ended Patchcord Type | BI2: Consolidation Point Connectivity Brand | BJ2: Consolidation Point Connectivity Type | BK2: Cross-Connect Single-ended Patchcord Type | BL2: Cross-Connect Connectivity Brand | BM2: Cross-Connect Connectivity Type | BN2: Tester Type | BO2: Permanent Link or Channel | BP2: Test Patch Cord Length | BQ2: Electronic Test File Type | BR2: Warranty Module Required | BS2: Number of Links Installed | BT2: Cable Brand | BU2: Cable Type | BV2: Connectivity Brand | BW2: Connectivity Type | BX2: Termination Method | BY2: Connectivity Brand | BZ2: Connectivity Type | CA2: Termination Method | CB2: Tester Type | CC2: Test Patch Cord Length | CD2: Electronic Test File Type | CE2: Software name and version used to save results | CF2: Add_Warranty Module Required | CG2: Add_Channel Configuration | CH2: Add_Cable Brand | CI2: Add_Cable Type | CJ2: Add_Patch PanelConnectivity Brand | CK2: Add_Patch Panel Connectivity Type | CL2: Add_Telecom Outlet Connectivity Brand | CM2: Add_Telecom Outlet Connectivity Type | CN2: Add_Consolidation Point Single-ended Patchcord Type | CO2: Add_Consolidation Point Connectivity Brand | CP2: Add_Consolidation Point Connectivity Type | CQ2: Add_Cross-Connect Single-ended Patchcord Type | CR2: Add_Cross-Connect Connectivity Brand | CS2: Add_Cross-Connect Connectivity Type | CT2: Add_Tester Type | CU2: Add_Permanent Link or Channel | CV2: Add_Test Patch Cord Length | CW2: Add_Electronic Test File Type | CX2: Add_Warranty Module Required | CY2: Add_Cable Brand | CZ2: Add_Cable Type | DA2: Add_A_Connectivity Brand | DB2: Add_A_Connectivity Type | DC2: Add_A_Termination Method | DD2: Add_B_Connectivity Brand | DE2: Add_B_Connectivity Type | DF2: Add_B_Termination Method | DG2: Add_Tester Type | DH2: Add_Test Patch Cord Length | DI2: Add_Electronic Test File Type | DJ2: Add_Software name and version used to save results | DK2: Warranty Module Required | DL2: Channel Configuration | DM2: Number of Links Installed | DN2: Cross-Connect Single-ended Patchcord Type | DO2: Cross-Connect Connectivity Brand | DP2: Cross-Connect Connectivity Type | DQ2: Tester Type | DR2: Permanent Link or Channel | DS2: Test Patch Cord Length | DT2: Electronic Test File Type | DU2: Add_Warranty Module Required | DV2: Add_Channel Configuration | DW2: Add_Cross-Connect Single-ended Patchcord Type | DX2: Add_Cross-Connect Connectivity Brand | DY2: Add_Cross-Connect Connectivity Type | DZ2: Add_Tester Type | EA2: Add_Permanent Link or Channel | EB2: Add_Test Patch Cord Length | EC2: Add_Electronic Test File Type | ED2: Copper Links Calibration | EE2: Add Copper Links Calibration | EF2: Cross Connect Links Calibration | EG2: Add Cross Connect Links Calibration | EH2: Fibre Links Calibration | EI2: Add Fibre Links Calibration | EJ2: Form Included | EK2: Results Included | EL2: Guides Complied With | EM2: Numbers Equal
A4: 1 | B4: 2 | C4: 3 | D4: 4 | E4: 5 | F4: 6 | G4: 7 | H4: 8 | I4: 9 | J4: 10 | K4: 11 | L4: 12 | M4: 13 | N4: 14 | O4: 15 | P4: 16 | Q4: 17 | R4: 18 | S4: 19 | T4: 20 | U4: 21 | V4: 22 | W4: 23 | X4: 24 | Y4: 25 | Z4: 26 | AA4: 27 | AB4: 28 | AC4: 29 | AD4: 30 | AE4: 31 | AF4: 32 | AG4: 33 | AH4: 34 | AI4: 35 | AJ4: 36 | AK4: 37 | AL4: 38 | AM4: 39 | AN4: 40 | AO4: 41 | AP4: 42 | AQ4: 43 | AR4: 44 | AS4: 45 | AT4: 46 | AU4: 47 | AV4: 48 | AW4: 49 | AX4: 50 | AY4: 51 | AZ4: 52 | BA4: 53 | BB4: 54 | BC4: 55 | BD4: 56 | BE4: 57 | BF4: 58 | BG4: 59 | BH4: 60 | BI4: 61 | BJ4: 62 | BK4: 63 | BL4: 64 | BM4: 65 | BN4: 66 | BO4: 67 | BP4: 68 | BQ4: 69 | BR4: 70 | BS4: 71 | BT4: 72 | BU4: 73 | BV4: 74 | BW4: 75 | BX4: 76 | BY4: 77 | BZ4: 78 | CA4: 79 | CB4: 80 | CC4: 81 | CD4: 82 | CE4: 83 | CF4: 84 | CG4: 85 | CH4: 86 | CI4: 87 | CJ4: 88 | CK4: 89 | CL4: 90 | CM4: 91 | CN4: 92 | CO4: 93 | CP4: 94 | CQ4: 95 | CR4: 96 | CS4: 97 | CT4: 98 | CU4: 99 | CV4: 100 | CW4: 101 | CX4: 102 | CY4: 103 | CZ4: 104 | DA4: 105 | DB4: 106 | DC4: 107 | DD4: 108 | DE4: 109 | DF4: 110 | DG4: 111 | DH4: 112 | DI4: 113 | DJ4: 114 | DK4: 115 | DL4: 116 | DM4: 117 | DN4: 118 | DO4: 119 | DP4: 120 | DQ4: 121 | DR4: 122 | DS4: 123 | DT4: 124 | DU4: 125 | DV4: 126 | DW4: 127 | DX4: 128 | DY4: 129 | DZ4: 130 | EA4: 131 | EB4: 132 | EC4: 133 | ED4: 134 | EE4: 135 | EF4: 136 | EG4: 137 | EH4: 138 | EI4: 139 | EJ4: 140 | EK4: 141 | EL4: 142 | EM4: 143
A5: 1 | B5: 2 | C5: 3 | D5: 4 | E5: 5 | F5: 6 | G5: 7 | H5: 8 | I5: 9 | J5: 10 | K5: 11 | L5: 12 | M5: 13 | N5: 14 | O5: 15 | P5: 16 | Q5: 17 | R5: 18 | S5: 19 | T5: 20 | U5: 21 | V5: 22 | W5: 1 | X5: 2 | Y5: 3 | Z5: 4 | AA5: 5 | AB5: 6 | AC5: 7 | AD5: 8 | AE5: 9 | AF5: 10 | AG5: 11 | AH5: 12 | AI5: 13 | AJ5: 14 | AK5: 15 | AL5: 16 | AM5: 17 | AN5: 18 | AO5: 19 | AP5: 20 | AQ5: 21 | AR5: 22 | AS5: 23 | AT5: 24 | AU5: 25 | AV5: 26 | AW5: 27 | AX5: 28 | AY5: 1 | AZ5: 2 | BA5: 3 | BB5: 4 | BC5: 5 | BD5: 6 | BE5: 7 | BF5: 8 | BG5: 9 | BH5: 10 | BI5: 11 | BJ5: 12 | BK5: 13 | BL5: 14 | BM5: 15 | BN5: 16 | BO5: 17 | BP5: 18 | BQ5: 19 | BR5: 1 | BS5: 2 | BT5: 3 | BU5: 4 | BV5: 5 | BW5: 6 | BX5: 7 | BY5: 8 | BZ5: 9 | CA5: 10 | CB5: 11 | CC5: 12 | CD5: 13 | CE5: 14 | CF5: 1 | CG5: 2 | CH5: 3 | CI5: 4 | CJ5: 5 | CK5: 6 | CL5: 7 | CM5: 8 | CN5: 9 | CO5: 10 | CP5: 11 | CQ5: 12 | CR5: 13 | CS5: 14 | CT5: 15 | CU5: 16 | CV5: 17 | CW5: 18 | CX5: 1 | CY5: 2 | CZ5: 3 | DA5: 4 | DB5: 5 | DC5: 6 | DD5: 7 | DE5: 8 | DF5: 9 | DG5: 10 | DH5: 11 | DI5: 12 | DJ5: 13 | DK5: 1 | DL5: 2 | DM5: 3 | DN5: 4 | DO5: 5 | DP5: 6 | DQ5: 7 | DR5: 8 | DS5: 9 | DT5: 10 | DU5: 1 | DV5: 2 | DW5: 3 | DX5: 4 | DY5: 5 | DZ5: 6 | EA5: 7 | EB5: 8 | EC5: 9 | ED5: 1 | EE5: 2 | EF5: 3 | EG5: 4 | EH5: 5 | EI5: 6 | EJ5: 1 | EK5: 2 | EL5: 3 | EM5: 4

Sheet Notes
A2: =HLOOKUP(Language,NotesLanguage,2,FALSE) -> The Submission Form :
A3: =HLOOKUP(Language,NotesLanguage,4,FALSE) -> The most recent version of this submission form can be downloaded from the warranty webpage found in the Resources folder on the www.aginode.net website.
A5: =HLOOKUP(Language,NotesLanguage,6,FALSE) -> Languages other than English are also available in the form and can be easily selected from the dropdown list in the opening tab.
A7: =HLOOKUP(Language,NotesLanguage,7,FALSE) -> Following steps must be taken into consideration when applying for a warranty certificate:
A9: =HLOOKUP(Language,NotesLanguage,8,FALSE) -> * Use one submission form per cabling system type : see field "media" on tab "General"
A10: =HLOOKUP(Language,NotesLanguage,9,FALSE) -> * Complete the mandatory fields indicated by a '#' in the form
A11: =HLOOKUP(Language,NotesLanguage,10,FALSE) -> * Tabs "General" and "Project Details" should be completed in all cases. Additionally complete tab "Copper Links", "Copper Crossconnect" or "Fibre" according to the chosen type of media.
A12: =HLOOKUP(Language,NotesLanguage,11,FALSE) -> * Use the “other” column if an item is not available from the dropdown list
A13: =HLOOKUP(Language,NotesLanguage,12,FALSE) -> * Do not forget to include your company’s unique CSP number, when applicable.
A14: =HLOOKUP(Language,NotesLanguage,13,FALSE) -> * Include the test results in the correct file format according to our Field Test procedures
A16: =HLOOKUP(Language,NotesLanguage,14,FALSE) -> The Warranty requests sent by e-mail are processed automatically, this allows us to produce the certificate in a short timeframe or reply promptly in case of missing information.
A18: =HLOOKUP(Language,NotesLanguage,3,FALSE) -> Test Results file(s) :
A19: =HLOOKUP(Language,NotesLanguage,15,FALSE) -> In order to verify the quality of the link one must test the installed links according to the minimum performance limits provided by the National & International Standards.
A21: =HLOOKUP(Language,NotesLanguage,16,FALSE) -> Testing methods are detailed in our Field Testing Procedures which are downloadable from the website. (The original test results prove the performance of the Cabling System installed and are therefore mandatory when applying for Warranty Certification.)
A23: =HLOOKUP(Language,NotesLanguage,17,FALSE) -> Each field tester must be within the one year factory calibration period when used for certification. A copy of the manufacturer calibration document shall be made available to Aginode if requested.
A25: =HLOOKUP(Language,NotesLanguage,18,FALSE) -> Make sure that the number of test results provided are equal to the number of links detailed on the submission form and they are all passes.
A27: =HLOOKUP(Language,NotesLanguage,19,FALSE) -> When the installation contains cross connections or service presentations which need to be certified, then a separate submission form and test results file has to be provided.
A28: =HLOOKUP(Language,NotesLanguage,20,FALSE) -> Cross connections need to be tested separately according to our field test procedure.
A30: =HLOOKUP(Language,NotesLanguage,21,FALSE) -> The “as-Built” documentation including, but not limited to, rack layouts, cable routing and node id’s are not needed to obtain the Warranty certificate, but may be requested during the certification process.
A32: =HLOOKUP(Language,NotesLanguage,22,FALSE) -> Please use our general warranty.ncs@aginode.net e-mail address for any of your queries related to LANmark Warranty Certification or contact your local Aginode representative.
A34: =HLOOKUP(Language,NotesLanguage,23,FALSE) -> For our Essential product range a separate Link performance conformity certificate can be obtained on-line from our website.

Sheet Certificate
D6: Warranty Module
D8: =IF(LEFT(MediaChoice,1) = "1",CertCuModule,IF(LEFT(MediaChoice) = "3",CertFibreModule,CertCCModule)) -> 0
D10: Aginode Belgium NV hereby certifies
E11: =IF(LEFT(MediaChoice,1) = "1",CertCuLinksNumber & " Copper",IF(LEFT(MediaChoice,1) = "2",CertCuCrossconnectsNumber & " Copper",CertFibreNumber & " Fibre")) & " Links" -> Fibre Links
D14: Installed for
D15: =CertCustomerName -> 0
E16: =CertStreet & ", " & CertStreetNr & IF(CertAddress_1 <> "",CHAR(13) & CHAR(10) & CertAddress_1,"") & IF(CertAddress_2 <> "",CHAR(13) & CHAR(10) & CertAddress_2,"") & CHAR(13) & CHAR(10) & CertTown & CHAR(13) & CHAR(10) &CertPostcode & CHAR(13) & CHAR(10) & 'Project Details'!$D$18 -> , _x000D_ _x000D_ _x000D_
D19: By
D20: =CertInstaller -> 0
E21: ="Status " & IF(CertCSPNr <>"","CSP","Non-CSP") -> Status Non-CSP
D23: ="Reference: "& CertReference -> Reference:
D25: =HLOOKUP(Language,LanguageChoice,15,FALSE) & TEXT('Project Details'!$D$20, " dd mmm yyyy") -> Date 00 jan yyyy

Sheet System
A1: Customer Details | G1: Countries
A2: Sector of Activity | B2: LanguageRange | C2: Media | G2: Select, choisi, auserwählt, prescelto, seleto, selecto, выбор, Επιλέξτε, 选择
A3: =HLOOKUP(Language,LanguageChoice,70,FALSE) -> 01 - N/A Multiple Sectors | B3: Select, choisi, auserwählt, prescelto, seleto, selecto, выбор, Επιλέξτε, 选择 | C3: =HLOOKUP(Language,LanguageChoice,103,FALSE) -> Please select your language and media below and complete the tabs needed | D3: Copper | G3: Afghanistan
A4: =HLOOKUP(Language,LanguageChoice,71,FALSE) -> 02 - Defense & Security | B4: Deutsch | C4: =HLOOKUP(Language,LanguageChoice,104,FALSE) -> 1 - Copper Links | D4: Copper | F4: Cu Crossconnect | G4: Aland Islands
A5: =HLOOKUP(Language,LanguageChoice,72,FALSE) -> 03 - Education | B5: English | C5: =HLOOKUP(Language,LanguageChoice,105,FALSE) -> 2 - Copper Crossconnect | D5: Warranty Module Required | E5: 2, 3 or 4 Connector Channel configuration | F5: 3 or 4 Connector Channel configuration | G5: Albania
A6: =HLOOKUP(Language,LanguageChoice,73,FALSE) -> 04 - Finance & Insurance | B6: English(US) | C6: =HLOOKUP(Language,LanguageChoice,106,FALSE) -> 3 - Fibre | D6: LANmark-6 Class E/Cat 6 System | E6: Panel to Panel | F6: Crossconnect - TO | G6: Algeria
A7: =HLOOKUP(Language,LanguageChoice,74,FALSE) -> 05 - Government | B7: Español | D7: LANmark-6A Class EA/Cat 6A System | E7: Interconnect - TO | F7: Crossconnect - Consolidation Point - TO | G7: American Samoa
A8: =HLOOKUP(Language,LanguageChoice,75,FALSE) -> 06 - Health | B8: Français | D8: LANmark-7 Class F/Cat 7 System | E8: MPTL: Interconnect - Modular Plug | F8: =HLOOKUP(Language,LanguageChoice,48,FALSE) -> Other, Please explain >> | G8: Andorra
A9: =HLOOKUP(Language,LanguageChoice,76,FALSE) -> 07 - Tourism | B9: Nederlands | D9: LANmark-7A Class FA/Cat 7A System | E9: Crossconnect - TO | G9: Angola
A10: =HLOOKUP(Language,LanguageChoice,77,FALSE) -> 08 - Industry Sector | B10: Norsk | D10: LANmark-8 CLASS II/Cat 8 System | E10: Interconnect - Consolidation Point - TO | G10: Anguilla
A11: =HLOOKUP(Language,LanguageChoice,78,FALSE) -> 09 - Media & Entertainment | B11: Polski | D11: =HLOOKUP(Language,LanguageChoice,48,FALSE) -> Other, Please explain >> | E11: Crossconnect - Consolidation Point - TO | G11: Antarctica
A12: =HLOOKUP(Language,LanguageChoice,79,FALSE) -> 10 - Telecom & Internet | B12: Português | E12: =HLOOKUP(Language,LanguageChoice,48,FALSE) -> Other, Please explain >> | G12: Antigua and Barbuda
A13: =HLOOKUP(Language,LanguageChoice,80,FALSE) -> 11 - Services & Consultancy | B13: Русский | G13: Argentina
A14: =HLOOKUP(Language,LanguageChoice,81,FALSE) -> 12 - Transport | B14: Svenska | D14: Cable | G14: Armenia
B15: 中国的 | D15: Cable Brand | E15: Cable Type | G15: Aruba
B16: 대한민국 | D16: LANmark-6 | E16: U/UTP | G16: Australia
D17: LANmark-6 10G | E17: F/UTP | G17: Austria
D18: LANmark-6A | E18: F1/UTP | G18: Azerbaijan
D19: LANmark-7 | E19: FXTP | G19: Bahamas
D20: LANmark-7A | E20: EXTP | G20: Bahrain
B21: As Built | D21: LANmark-8 | E21: U/FTP | G21: Bangladesh
B22: =HLOOKUP(Language,LanguageChoice,93,FALSE) -> Kept by Installer | D22: LANmark Industry | E22: F/FTP | G22: Barbados
B23: =HLOOKUP(Language,LanguageChoice,94,FALSE) -> Handed to End User | D23: LANmark Maritime | E23: S/FTP | G23: Belarus
D24: Essential-6 | E24: S/FTP + PE | G24: Belgium
D25: =HLOOKUP(Language,LanguageChoice,48,FALSE) -> Other, Please explain >> | E25: =HLOOKUP(Language,LanguageChoice,48,FALSE) -> Other, Please explain >> | G25: Belize
G26: Benin
G27: Bermuda
G28: Bhutan
D29: Patching | G29: Bolivia
D30: Single-ended Patchcord Type | E30: Connectivity Type | F30: Connectivity Brand | G30: Bonaire
D31: LANmark-6 Stranded Cord | E31: DIN-Rail Outlet | F31: LANmark-6 | G31: Bosnia-Herzegovina
D32: LANmark-6A Stranded Cord | E32: IP65/67 Outlet | F32: LANmark-6A | G32: Botswana
D33: LANmark-7A Stranded Cord | E33: EVO Unscreened | F33: LANmark-7 | G33: Bouvet Island
D34: LANmark Industry | E34: EVO Unscreened for Stranded | F34: LANmark-7A | G34: Brazil
D35: =HLOOKUP(Language,LanguageChoice,48,FALSE) -> Other, Please explain >> | E35: EVO Screened | F35: LANmark-8 | G35: British Indian Ocean Territory
E36: EVO Screened for Stranded | F36: =HLOOKUP(Language,LanguageChoice,48,FALSE) -> Other, Please explain >> | G36: Brunei Darussalam
E37: ULTIM Screened | G37: Bulgaria
E38: EVO 2.0 Screened | G38: Burkina Faso
E39: Field Terminable Plug | G39: Burundi
E40: GG45 Screened | G40: Cambodia
E41: GG45 Screened for Stranded | G41: Cameroon
E42: PCB Unscreened (110/LSA+) | G42: Canada
E43: PCB Screened (110/LSA+) | G43: Cape Verde
E44: =HLOOKUP(Language,LanguageChoice,48,FALSE) -> Other, Please explain >> | G44: Cayman Islands
C45: TESTERS | G45: Central African Republic
C46: Tester Type | D46: Permanent Link or Channel test | E46: Test Patch Cord Length | F46: Electronic Test File Type | G46: Chad
C47: FLUKE DSX-60x | D47: Permanent Link | E47: 1 m | F47: .FLW (FLUKE) | G47: Chile
A48: Not Available | C48: FLUKE DSX-5000 | D48: Channel | E48: 2 m | F48: .PRX (SOFTING) | G48: China
A49: =HLOOKUP(Language,LanguageChoice,69,FALSE) -> Please change Media type on Tab "General" | C49: FLUKE DSX-8000 | D49: Mix | E49: 3 m | F49: .SDF (TREND/IDEAL) | G49: Christmas Island
C50: AEM TestPro CV100 | D50: =HLOOKUP(Language,LanguageChoice,48,FALSE) -> Other, Please explain >> | E50: 4 m | F50: .PRX (VIAVI) | G50: Cocos (Keeling) Islands
C51: SOFTING WireXpert 500 | E51: 5 m | F51: .TPP (AEM) | G51: Colombia
C52: SOFTING WireXpert 4500 | E52: =HLOOKUP(Language,LanguageChoice,48,FALSE) -> Other, Please explain >> | F52: .ZIP-.RES (TREND) | G52: Comoros
C53: TREND LanTEK III-500/1000 | F53: =HLOOKUP(Language,LanguageChoice,48,FALSE) -> Other, Please explain >> | G53: Congo (Democratic Republic of)
C54: TREND LanTEK IV | E54: Calibration | G54: Cook Islands
C55: =HLOOKUP(Language,LanguageChoice,48,FALSE) -> Other, Please explain >> | E55: Yes | G55: Costa Rica
E56: No | G56: Cote D'Ivoire
E57: =HLOOKUP(Language,LanguageChoice,48,FALSE) -> Other, Please explain >> | G57: Croatia
G58: Curacao
G59: Cyprus
G60: Czech Republic
G61: Denmark
G62: Djibouti
A63: Fibre | G63: Dominica
A64: Fibre | B64: Cable | D64: Connectivity | G64: Dominican Republic
A65: Warranty Module Required | B65: =HLOOKUP(Language,LanguageChoice,50,FALSE) -> Cable Brand | C65: =HLOOKUP(Language,LanguageChoice,51,FALSE) -> Cable Type | D65: =HLOOKUP(Language,LanguageChoice,52,FALSE) -> Connectivity Brand | E65: =HLOOKUP(Language,LanguageChoice,53,FALSE) -> Connectivity Type | F65: Method | G65: East Timor
A66: LANmark-OF OM3 System | B66: LANmark-OF OM3 | C66: ENSPACE Pre-term | D66: LANmark-OF | E66: LC | F66: Fusion Splicing | G66: Ecuador
A67: LANmark-OF OM3 MPO/MTP System | B67: LANmark-OF OM4 | C67: Loose Tube Universal (LTUN) | D67: =HLOOKUP(Language,LanguageChoice,48,FALSE) -> Other, Please explain >> | E67: LC APC | F67: Pre-term | G67: Egypt
A68: LANmark-OF OM4 System | B68: LANmark-OF OM5 | C68: Tight Buffer Universal (TBUN) | E68: SC | F68: =HLOOKUP(Language,LanguageChoice,48,FALSE) -> Other, Please explain >> | G68: El Salvador
A69: LANmark-OF OM4 MPO/MTP System | B69: LANmark-OF SM | C69: Module Universal (MUN) | E69: SC APC | G69: Equatorial Guinea
A70: LANmark-OF OM5 System | B70: =HLOOKUP(Language,LanguageChoice,48,FALSE) -> Other, Please explain >> | C70: Multitube Universal (MGUN) | E70: MPO/MTP | G70: Eritrea
A71: LANmark-OF OM5 MPO/MTP System | C71: Unitube Steel Armoring Universal (UCUN) | E71: MPO/MTP APC | G71: Estonia
A72: LANmark-OF SM System | C72: Unitube Steel Armoring Outdoor (UCPE) | E72: MPO/MTP cassette to LC | G72: Ethiopia
A73: LANmark-OF SM MPO/MTP System | C73: Unitube Universal (UGUN) | E73: MPO/MTP cassette to SC | G73: Falkland Islands (Malvinas)
A74: =HLOOKUP(Language,LanguageChoice,48,FALSE) -> Other, Please explain >> | C74: Unitube Dielectric Armoring (UDPE) | E74: =HLOOKUP(Language,LanguageChoice,48,FALSE) -> Other, Please explain >> | G74: Færø Islands
C75: =HLOOKUP(Language,LanguageChoice,48,FALSE) -> Other, Please explain >> | G75: Fiji
G76: Finland
G77: France
G78: French Guiana
G79: French Polynesia
G80: French Southern Territories
G81: Gabon
G82: Gambia
A83: Test Results | G83: Georgia
A84: =HLOOKUP(Language,LanguageChoice,38,FALSE) -> Tester Type | B84: =HLOOKUP(Language,LanguageChoice,37,FALSE) -> Test Patch Cord Length | C84: =HLOOKUP(Language,LanguageChoice,36,FALSE) -> Electronic Test File Type | D84: =HLOOKUP(Language,LanguageChoice,64,FALSE) -> Software name and version used to save results | G84: Germany
A85: =HLOOKUP(Language,LanguageChoice,117,FALSE) -> OLTS (Optical Loss Test Set) with standard patch cords | B85: 1m | C85: .FLW (FLUKE) | D85: a | G85: Ghana
A86: =HLOOKUP(Language,LanguageChoice,118,FALSE) -> OLTS (Optical Loss Test Set) with reference grade test cords | B86: 2m | C86: .OLTS (EXFO) | D86: b | G86: Gibraltar
A87: OTDR (Optical Time Domain Reflectometer) | B87: 3m | C87: .PRX (JDSU/VIAVI) | D87: c | G87: Greece
A88: =HLOOKUP(Language,LanguageChoice,48,FALSE) -> Other, Please explain >> | B88: 4m | C88: .PRX (SOFTING) | G88: Greenland
B89: 5m | C89: .SDF (TREND/IDEAL) | G89: Grenada
B90: Launch fibre and tail fibre | C90: .TPP (AEM) | G90: Guadeloupe
B91: =HLOOKUP(Language,LanguageChoice,48,FALSE) -> Other, Please explain >> | C91: .TRC/.SOR | G91: Guam
C92: =HLOOKUP(Language,LanguageChoice,48,FALSE) -> Other, Please explain >> | G92: Guatemala
G93: Guernsey
G94: Guinea
G95: Guinea-Bissau
B96: =Language!F1 -> Português | G96: Guyana
B97: =HLOOKUP(B96,LanguageChoice,98,FALSE) -> Informação de certificação para links | G97: Haiti
G98: Heard Island and Mcdonald Islands
G99: Honduras
G100: Hong Kong
...

Sheet Language
A1: 1 | B1: Select, choisi, auserwählt, prescelto, seleto, selecto, выбор, Επιλέξτε | C1: English | D1: Français | E1: Deutsch | F1: Português | G1: Español | H1: Русский | I1: Nederlands | J1: Polski | K1: Svenska | L1: Norsk | M1: English(US) | N1: 대한민국 | O1: 中国的
A2: 2 | B2: Select Language on Tab General | C2: 2, 3 or 4 Connector Channel | D2: Liaison à 2, 3 ou 4 Connecteur | E2: 2, 3 oder 4 Connector Channel | F2: Canal de 2, 3 ou 4 conectores | G2: Canal de 2, 3 o 4 conectores | H2: Модель канала на 2, 3 или 4 соединителях | I2: 2, 3 of 4 Connector Channel | J2: Model kanału o 2, 3, lub 4 złączach | K2: 2, 3 eller 4 kontakters kanal | L2: Kanal med 2, 3 eller 4 koblinger | M2: 2, 3 or 4 Connector Channel | N2: 2, 3 또는 4 커넥터 채널 | O2: 2,3,4连接点信道
A3: 3 | B3: Select Language on Tab General | C3: Address 1 | D3: Adresse 2 | E3: Anschrift 1 | F3: Endereço 1 | G3: Dirección 1 | H3: Адрес 1 | I3: Adres 1 | J3: Adres 1 | K3: Address 1 | L3: Adresse 1 | M3: Address 1 | N3: 주소 1 | O3: 地址1
A4: 4 | B4: Select Language on Tab General | C4: Address 2 | D4: Adresse 3 | E4: Anschrift 2 | F4: Endereço 2 | G4: Dirección 2 | H4: Адрес 2 | I4: Adres 2 | J4: Adres 2 | K4: Address 2 | L4: Adresse 2 | M4: Address 2 | N4: 주소 2 | O4: 地址2
A5: 5 | B5: Select Language on Tab General | C5: Address Street + Nr. | D5: Adresse 1 | E5: Anschrift Straße + Nr. | F5: Rua e Número | G5: Calle + Número | H5: Адрес: улица, дом, офис | I5: Adres (straatnaam + huisnummer) | J5: Adres ulica + numer | K5: Gatuadress | L5: Gateadresse + nr. | M5: Address Street + Nr. | N5: 나머지 상세 주소 | O5: 地址 街道+门牌号
A6: 6 | B6: Select Language on Tab General | C6: End-user contact details | D6: Coordonnées de l'utilisateur final | E6: Kontaktdaten des Endbenutzers | F6: Detalhes de contacto do utilizador final | G6: Datos de contacto del usuario final | H6: Στοιχεία επικοινωνίας τελικού χρήστη | I6: Contactgegevens eindgebruiker | J6: Dane kontaktowe użytkownika końcowego | K6: Slutanvändarens kontaktuppgifter | L6: Sluttbrukerkontaktdetaljer | M6: End-user contact details | N6: 최종 사용자 연락처 정보 | O6: 最终用户联系方式
A7: 7 | B7: Select Language on Tab General | C7: Cabling Solution Installed | D7: Solutions de câblage installées | E7: Installierte Verkabelungslösung | F7: Solução de cablagem Instalada | G7: Solución de Cableado Instalado | H7: Установленная кабельная система | I7: Geïnstalleerde bekabelingoplossing | J7: Rodzaj zainstalowanego systemu okablowania | K7: Val av kabelsystem | L7: Installert kablingssystem | M7: Cabling Solution Installed | N7: 설치된 케이블링 솔루션 | O7: 已安装的布线系统
A8: 8 | B8: Select Language on Tab General | C8: Company Name | D8: Nom de la société | E8: Firmen Name | F8: Nome da empresa | G8: Nombre de la Empresa | H8: Название компании | I8: Bedrijfsnaam | J8: Nazwa firmy | K8: Företagsnamn | L8: Selskapsnavn | M8: Company Name | N8: 회사명 | O8: 公司名称
A9: 9 | B9: Select Language on Tab General | C9: Contact for Certificate queries | D9: Contact pour toutes questions liées au certificat | E9: Kontakt für Rückfragen | F9: Contacto para esclarecimento de dúvidas | G9: Contacto para dudas | H9: Контакт по вопросам сертификации | I9: Contactpersoon voor de certificaataanvraag | J9: Kontakt w sprawach certyfikacji | K9: Kontaktperson vid frågor om cerifikat | L9: Kontaktperson for sertifiseringsbevis | M9: Contact for Certificate queries | N9: 인증관련 문의를 위한 연락처 | O9: 证书查询联系人
A10: 10 | B10: Select Language on Tab General | C10: Country | D10: Pays | E10: Land | F10: País | G10: País | H10: Страна | I10: Land | J10: Kraj | K10: Land | L10: Land | M10: Country | N10: 국가 | O10: 国家
A11: 11 | B11: Select Language on Tab General | C11: Aginode CSP Nr. | D11: Numéro d'agrément Aginode | E11: Aginode CSP Nr. | F11: Aginode CSP Nr. | G11: Nr. De CSP Aginode | H11: Номер Aginode CSP (Certified Solutiuon Partner) | I11: Aginode CSP nummer | J11: Numer partnera CSP | K11: Aginode CSP nr | L11: Aginode CSP Nr. | M11: Aginode CSP Nr. | N11: 넥상스 CSP(인증 솔루션 파트너) 번호 | O11: 耐克森 CSP（解决方案认证合作伙伴）号码
A12: 12 | B12: Select Language on Tab General | C12: Customer Details | D12: Informations sur le client | E12: Angaben zum Kunden | F12: Detalhes do cliente | G12: Detalles del cliente | H12: Инорфмация о компании клиента | I12: Klantgegevens | J12: Dane klienta | K12: Kund, namn och verksamhet | L12: Kundeinformasjon | M12: Customer Details | N12: 고객 세부 정보 | O12: 客户信息
... A120: 120 | B120: Select Language on Tab General | C120: For Essential products, a Link Warranty can be obtained online : www.aginode.net | D120: Pour les produits Essential, une garantie sur les liens en auto-certification est disponible : www.aginode.net | E120: For Essential products, a Link Warranty can be obtained online : www.aginode.net | F120: For Essential products, a Link Warranty can be obtained online : www.aginode.net | G120: For Essential products, a Link Warranty can be obtained online : www.aginode.net | H120: For Essential products, a Link Warranty can be obtained online : www.aginode.net | I120: Voor Essential producten is een on-line Link Warranty verkrijgbaar : www.aginode.net | J120: For Essential products, a Link Warranty can be obtained online : www.aginode.net | K120: For Essential products, a Link Warranty can be obtained online : www.aginode.net | L120: For Essential products, a Link Warranty can be obtained online : www.aginode.net | M120: For Essential products, a Link Warranty can be obtained online : www.aginode.net | N120: For Essential products, a Link Warranty can be obtained online : www.aginode.net | O120: For Essential products, a Link Warranty can be obtained online : www.aginode.net
A121: 121 | B121: Select Language on Tab General
B126: Remember to extend named range "LanguageChoice" if you go below Row 125

Sheet NotesTranslate
A1: 1 | B1: Select, choisi, auserwählt, prescelto, seleto, selecto, выбор, Επιλέξτε | C1: English | D1: Français | E1: Deutsch | F1: Português | G1: Español | H1: Русский | I1: Nederlands | J1: Polski | K1: Svenska | L1: Norsk | M1: English(US) | N1: 대한민국 | O1: 中国的
A2: 2 | B2: Select Language on Tab General | C2: The Submission Form : | D2: Formulaire de soumission : | E2: The Submission Form : | F2: The Submission Form : | G2: The Submission Form : | H2: The Submission Form : | I2: Het aanvraagformulier : | J2: The Submission Form : | K2: The Submission Form : | L2: The Submission Form : | M2: The Submission Form : | N2: The Submission Form : | O2: The Submission Form :
A3: 3 | B3: Select Language on Tab General | C3: Test Results file(s) : | D3: Fichier(s) de résultat de test : | E3: Test Results file(s) : | F3: Test Results file(s) : | G3: Test Results file(s) : | H3: Test Results file(s) : | I3: Testresultaatbestand(en) : | J3: Test Results file(s) : | K3: Test Results file(s) : | L3: Test Results file(s) : | M3: Test Results file(s) : | N3: Test Results file(s) : | O3: Test Results file(s) :
A4: 4 | B4: Select Language on Tab General | C4: The most recent version of this submission form can be downloaded from the warranty webpage found in the Resources folder on the www.aginode.net website. | D4: Dans la Bibliothèque de fichiers de notre site web AGINODE (www.aginode.net), vous pouvez télécharger la dernière version du formulaire de soumission. | E4: The most recent version of this submission form can be downloaded from the warranty webpage found in the Resources folder on the www.aginode.net website. | F4: The most recent version of this submission form can be downloaded from the warranty webpage found in the Resources folder on the www.aginode.net website. | G4: The most recent version of this submission form can be downloaded from the warranty webpage found in the Resources folder on the www.aginode.net website. | H4: The most recent version of this submission form can be downloaded from the warranty webpage found in the Resources folder on the www.aginode.net website. | I4: De meest recente versie van het aanvraagformulier kunt u downloaden in de bestandenrubriek op onze AGINODE website (www.aginode.net). | J4: The most recent version of this submission form can be downloaded from the warranty webpage found in the Resources folder on the www.aginode.net website. | K4: The most recent version of this submission form can be downloaded from the warranty webpage found in the Resources folder on the www.aginode.net website. | L4: The most recent version of this submission form can be downloaded from the warranty webpage found in the Resources folder on the www.aginode.net website. | M4: The most recent version of this submission form can be downloaded from the warranty webpage found in the Resources folder on the www.aginode.net website. | N4: The most recent version of this submission form can be downloaded from the warranty webpage found in the Resources folder on the www.aginode.net website. | O4: The most recent version of this submission form can be downloaded from the warranty webpage found in the Resources folder on the www.aginode.net website.
A5: 5 | B5: Select Language on Tab General
A6: 6 | B6: Select Language on Tab General | C6: Languages other than English are also available in the form and can be easily selected from the dropdown list in the opening tab. | D6: Le formulaire est disponible en différentes langues, facilement sélectionnables dans la liste déroulante dans la fenêtre d’ouverture. | E6: Languages other than English are also available in the form and can be easily selected from the dropdown list in the opening tab. | F6: Languages other than English are also available in the form and can be easily selected from the dropdown list in the opening tab. | G6: Languages other than English are also available in the form and can be easily selected from the dropdown list in the opening tab. | H6: Languages other than English are also available in the form and can be easily selected from the dropdown list in the opening tab. | I6: Het formulier is ook beschikbaar in andere talen dan het Engels. Om een andere taal te kiezen, klikt u op het uitrolmenu in het openingstabblad. | J6: Languages other than English are also available in the form and can be easily selected from the dropdown list in the opening tab. | K6: Languages other than English are also available in the form and can be easily selected from the dropdown list in the opening tab. | L6: Languages other than English are also available in the form and can be easily selected from the dropdown list in the opening tab. | M6: Languages other than English are also available in the form and can be easily selected from the dropdown list in the opening tab. | N6: Languages other than English are also available in the form and can be easily selected from the dropdown list in the opening tab. | O6: Languages other than English are also available in the form and can be easily selected from the dropdown list in the opening tab.
A7: 7 | B7: Select Language on Tab General | C7: Following steps must be taken into consideration when applying for a warranty certificate: | D7: Vous devez respecter les points suivants pour votre demande de certificat de garantie : | E7: Following steps must be taken into consideration when applying for a warranty certificate: | F7: Following steps must be taken into consideration when applying for a warranty certificate: | G7: Following steps must be taken into consideration when applying for a warranty certificate: | H7: Following steps must be taken into consideration when applying for a warranty certificate: | I7: Wanneer u een garantiecertificaat aanvraagt, moet u rekening houden met het volgende : | J7: Following steps must be taken into consideration when applying for a warranty certificate: | K7: Following steps must be taken into consideration when applying for a warranty certificate: | L7: Following steps must be taken into consideration when applying for a warranty certificate: | M7: Following steps must be taken into consideration when applying for a warranty certificate: | N7: Following steps must be taken into consideration when applying for a warranty certificate: | O7: Following steps must be taken into consideration when applying for a warranty certificate:
A8: 8 | B8: Select Language on Tab General | C8: * Use one submission form per cabling system type : see field "media" on tab "General" | D8: * Utiliser un formulaire de soumission par type de système de câblage | E8: * Use one submission form per cabling system type : see field "media" on tab "General" | F8: * Use one submission form per cabling system type : see field "media" on tab "General" | G8: * Use one submission form per cabling system type : see field "media" on tab "General" | H8: * Use one submission form per cabling system type : see field "media" on tab "General" | I8: * Gebruik één aanvraagformulier per bekabelingssysteem. | J8: * Use one submission form per cabling system type : see field "media" on tab "General" | K8: * Use one submission form per cabling system type : see field "media" on tab "General" | L8: * Use one submission form per cabling system type : see field "media" on tab "General" | M8: * Use one submission form per cabling system type : see field "media" on tab "General" | N8: * Use one submission form per cabling system type : see field "media" on tab "General" | O8: * Use one submission form per cabling system type : see field "media" on tab "General"
A9: 9 | B9: Select Language on Tab General | C9: * Complete the mandatory fields indicated by a '#' in the form | D9: * Remplir les champs obligatoires indiqués par un '#' dans le formulaire | E9: * Complete the mandatory fields indicated by a '#' in the form | F9: * Complete the mandatory fields indicated by a '#' in the form | G9: * Complete the mandatory fields indicated by a '#' in the form | H9: * Complete the mandatory fields indicated by a '#' in the form | I9: * Vul alle verplichte velden in. Die zijn in het formulier met een ‘#’ aangegeven. | J9: * Complete the mandatory fields indicated by a '#' in the form | K9: * Complete the mandatory fields indicated by a '#' in the form | L9: * Complete the mandatory fields indicated by a '#' in the form | N9: * Complete the mandatory fields indicated by a '#' in the form | O9: * Complete the mandatory fields indicated by a '#' in the form
A10: 10 | B10: Select Language on Tab General | C10: * Tabs "General" and "Project Details" should be completed in all cases. Additionally complete tab "Copper Links", "Copper Crossconnect" or "Fibre" according to the chosen type of media. | D10: * Les feuilles “General” et “Project Details” doivent être remplies pour chaque demande de certification de garantie. Une des feuilles “Copper Links”, “Copper Crossconnect” ou “Fibre” doit être complétée selon le type de média choisi. | E10: * Tabs "General" and "Project Details" should be completed in all cases. Additionally complete tab "Copper Links", "Copper Crossconnect" or "Fibre" according to the chosen type of media. | F10: * Tabs "General" and "Project Details" should be completed in all cases. Additionally complete tab "Copper Links", "Copper Crossconnect" or "Fibre" according to the chosen type of media. | G10: * Tabs "General" and "Project Details" should be completed in all cases. Additionally complete tab "Copper Links", "Copper Crossconnect" or "Fibre" according to the chosen type of media. | H10: * Tabs "General" and "Project Details" should be completed in all cases. Additionally complete tab "Copper Links", "Copper Crossconnect" or "Fibre" according to the chosen type of media. | I10: * De tabbladen "General" en "Project Details" dienen steeds ingevuld te worden. Bijkomend, ook het tabblad "Copper Links", "Copper Crossconnect" of "Fibre" al naargelang het gekozen type media. | J10: * Tabs "General" and "Project Details" should be completed in all cases. Additionally complete tab "Copper Links", "Copper Crossconnect" or "Fibre" according to the chosen type of media. | K10: * Tabs "General" and "Project Details" should be completed in all cases. Additionally complete tab "Copper Links", "Copper Crossconnect" or "Fibre" according to the chosen type of media. | L10: * Tabs "General" and "Project Details" should be completed in all cases. Additionally complete tab "Copper Links", "Copper Crossconnect" or "Fibre" according to the chosen type of media. | M10: * Tabs "General" and "Project Details" should be completed in all cases. Additionally complete tab "Copper Links", "Copper Crossconnect" or "Fibre" according to the chosen type of media. | N10: * Tabs "General" and "Project Details" should be completed in all cases. Additionally complete tab "Copper Links", "Copper Crossconnect" or "Fibre" according to the chosen type of media. | O10: * Tabs "General" and "Project Details" should be completed in all cases. Additionally complete tab "Copper Links", "Copper Crossconnect" or "Fibre" according to the chosen type of media.
A11: 11 | B11: Select Language on Tab General | C11: * Use the “other” column if an item is not available from the dropdown list | D11: * Utiliser la colonne “Autres” si une référence n’est pas disponible dans la liste déroulante | E11: * Use the “other” column if an item is not available from the dropdown list | F11: * Use the “other” column if an item is not available from the dropdown list | G11: * Use the “other” column if an item is not available from the dropdown list | H11: * Use the “other” column if an item is not available from the dropdown list | I11: * Gebruik de ‘Andere’-kolom als een bepaald item niet beschikbaar is in het uitrolmenu. | J11: * Use the “other” column if an item is not available from the dropdown list | K11: * Use the “other” column if an item is not available from the dropdown list | L11: * Use the “other” column if an item is not available from the dropdown list | M11: * Use the “other” column if an item is not available from the dropdown list | N11: * Use the “other” column if an item is not available from the dropdown list | O11: * Use the “other” column if an item is not available from the dropdown list
A12: 12 | B12: Select Language on Tab General | C12: * Do not forget to include your company’s unique CSP number, when applicable. | D12: * Ne pas oublier d’inclure le numéro CSP unique de votre société, le cas échéant | E12: * Do not forget to include your company’s unique CSP number, when applicable. | F12: * Do not forget to include your company’s unique CSP number, when applicable. | G12: * Do not forget to include your company’s unique CSP number, when applicable. | H12: * Do not forget to include your company’s unique CSP number, when applicable. | I12: * Vergeet niet om het unieke CSP-nummer van uw onderneming te vermelden, indien van toepassing. | J12: * Do not forget to include your company’s unique CSP number, when applicable. | K12: * Do not forget to include your company’s unique CSP number, when applicable. | L12: * Do not forget to include your company’s unique CSP number, when applicable. | M12: * Do not forget to include your company’s unique CSP number, when applicable. | N12: * Do not forget to include your company’s unique CSP number, when applicable. | O12: * Do not forget to include your company’s unique CSP number, when applicable.
A13: 13 | B13: Select Language on Tab General | C13: * Include the test results in the correct file format according to our Field Test procedures | D13: * Inclure les résultats de test, au format de fichier spécifié dans nos procédures de test sur le terrain | E13: * Include the test results in the correct file format according to our Field Test procedures | F13: * Include the test results in the correct file format according to our Field Test procedures | G13: * Include the test results in the correct file format according to our Field Test procedures | H13: * Include the test results in the correct file format according to our Field Test procedures | I13: * Voeg de testresultaten in het juiste bestandsformaat toe in overeenstemming met onze veldtestprocedures. | J13: * Include the test results in the correct file format according to our Field Test procedures | K13: * Include the test results in the correct file format according to our Field Test procedures | L13: * Include the test results in the correct file format according to our Field Test procedures | M13: * Include the test results in the correct file format according to our Field Test procedures | N13: * Include the test results in the correct file format according to our Field Test procedures | O13: * Include the test results in the correct file format according to our Field Test procedures
A14: 14 | B14: Select Language on Tab General | C14: The Warranty requests sent by e-mail are processed automatically, this allows us to produce the certificate in a short timeframe or reply promptly in case of missing information. | D14: Les demandes de garantie envoyées par e-mail sont traitées automatiquement, ce qui nous permet de produire le certificat en un laps de temps plus court ou de répondre rapidement s’il manque des informations. | E14: The Warranty requests sent by e-mail are processed automatically, this allows us to produce the certificate in a short timeframe or reply promptly in case of missing information. | F14: The Warranty requests sent by e-mail are processed automatically, this allows us to produce the certificate in a short timeframe or reply promptly in case of missing information. | G14: The Warranty requests sent by e-mail are processed automatically, this allows us to produce the certificate in a short timeframe or reply promptly in case of missing information. | H14: The Warranty requests sent by e-mail are processed automatically, this allows us to produce the certificate in a short timeframe or reply promptly in case of missing information. | I14: De per e-mail verstuurde garantieaanvragen worden automatisch verwerkt. Zo kunnen we het certificaat op korte termijn aanmaken of snel reageren mocht bepaalde informatie ontbreken. | J14: The Warranty requests sent by e-mail are processed automatically, this allows us to produce the certificate in a short timeframe or reply promptly in case of missing information. | K14: The Warranty requests sent by e-mail are processed automatically, this allows us to produce the certificate in a short timeframe or reply promptly in case of missing information. | L14: The Warranty requests sent by e-mail are processed automatically, this allows us to produce the certificate in a short timeframe or reply promptly in case of missing information. | M14: The Warranty requests sent by e-mail are processed automatically, this allows us to produce the certificate in a short timeframe or reply promptly in case of missing information. | N14: The Warranty requests sent by e-mail are processed automatically, this allows us to produce the certificate in a short timeframe or reply promptly in case of missing information. | O14: The Warranty requests sent by e-mail are processed automatically, this allows us to produce the certificate in a short timeframe or reply promptly in case of missing information.
A15: 15 | B15: Select Language on Tab General | C15: In order to verify the quality of the link one must test the installed links according to the minimum performance limits provided by the National & International Standards. | D15: Afin de vérifier leur qualité, les liens installés doivent être testés conformément aux seuils de performance minimum spécifiés dans les normes nationales et internationales. | E15: In order to verify the quality of the link one must test the installed links according to the minimum performance limits provided by the National & International Standards. | F15: In order to verify the quality of the link one must test the installed links according to the minimum performance limits provided by the National & International Standards. | G15: In order to verify the quality of the link one must test the installed links according to the minimum performance limits provided by the National & International Standards. | H15: In order to verify the quality of the link one must test the installed links according to the minimum performance limits provided by the National & International Standards. | I15: Om de kwaliteit van de link te controleren, moeten de geïnstalleerde links worden getest volgens de minimale prestatiegrenswaarden die vastgelegd zijn in de nationale en internationale normen. | J15: In order to verify the quality of the link one must test the installed links according to the minimum performance limits provided by the National & International Standards. | K15: In order to verify the quality of the link one must test the installed links according to the minimum performance limits provided by the National & International Standards. | L15: In order to verify the quality of the link one must test the installed links according to the minimum performance limits provided by the National & International Standards. | M15: In order to verify the quality of the link one must test the installed links according to the minimum performance limits provided by the National & International Standards. | N15: In order to verify the quality of the link one must test the installed links according to the minimum performance limits provided by the National & International Standards. | O15: In order to verify the quality of the link one must test the installed links according to the minimum performance limits provided by the National & International Standards.
A16: 16 | B16: Select Language on Tab General | C16: Testing methods are detailed in our Field Testing Procedures which are downloadable from the website. (The original test results prove the performance of the Cabling System installed and are therefore mandatory when applying for Warranty Certification.) | D16: Les méthodes de test sont détaillées dans nos Procédures de Test sur le terrain, téléchargeables sur notre site web. (Les résultats de test originaux attestent la performance du système de câblage installé et doivent donc obligatoirement être joints lors de la demande d’une certification de garantie.) | E16: Testing methods are detailed in our Field Testing Procedures which are downloadable from the website. (The original test results prove the performance of the Cabling System installed and are therefore mandatory when applying for Warranty Certification.) | F16: Testing methods are detailed in our Field Testing Procedures which are downloadable from the website. (The original test results prove the performance of the Cabling System installed and are therefore mandatory when applying for Warranty Certification.) | G16: Testing methods are detailed in our Field Testing Procedures which are downloadable from the website. (The original test results prove the performance of the Cabling System installed and are therefore mandatory when applying for Warranty Certification.) | H16: Testing methods are detailed in our Field Testing Procedures which are downloadable from the website. (The original test results prove the performance of the Cabling System installed and are therefore mandatory when applying for Warranty Certification.) | I16: De verschillende testmethodes komen in detail aan bod in onze veldtestprocedures. Die kunt u downloaden op de website. (De originele testresultaten gelden als bewijs voor de performantie van het geïnstalleerde bekabelingssysteem en zijn dan ook verplicht bij het aanvragen van een garantiecertificaat.) | J16: Testing methods are detailed in our Field Testing Procedures which are downloadable from the website. (The original test results prove the performance of the Cabling System installed and are therefore mandatory when applying for Warranty Certification.) | K16: Testing methods are detailed in our Field Testing Procedures which are downloadable from the website. (The original test results prove the performance of the Cabling System installed and are therefore mandatory when applying for Warranty Certification.) | L16: Testing methods are detailed in our Field Testing Procedures which are downloadable from the website. (The original test results prove the performance of the Cabling System installed and are therefore mandatory when applying for Warranty Certification.) | M16: Testing methods are detailed in our Field Testing Procedures which are downloadable from the website. (The original test results prove the performance of the Cabling System installed and are therefore mandatory when applying for Warranty Certification.) | N16: Testing methods are detailed in our Field Testing Procedures which are downloadable from the website. (The original test results prove the performance of the Cabling System installed and are therefore mandatory when applying for Warranty Certification.) | O16: Testing methods are detailed in our Field Testing Procedures which are downloadable from the website. (The original test results prove the performance of the Cabling System installed and are therefore mandatory when applying for Warranty Certification.)
A17: 17 | B17: Select Language on Tab General | C17: Each field tester must be within the one year factory calibration period when used for certification. A copy of the manufacturer calibration document shall be made available to Aginode if requested. | D17: La date limite de validité de l’étalonnage du testeur ne peut être dépassée lors de la réalisation des tests fournis pour la demande de certification Nexans. Une copie du document d’étalonnage du fabricant sera mise à la disposition de Aginode sur demande. | E17: Each field tester must be within the one year factory calibration period when used for certification. A copy of the manufacturer calibration document shall be made available to Aginode if requested. | F17: Each field tester must be within the one year factory calibration period when used for certification. A copy of the manufacturer calibration document shall be made available to Aginode if requested. | G17: Each field tester must be within the one year factory calibration period when used for certification. A copy of the manufacturer calibration document shall be made available to Aginode if requested. | H17: Each field tester must be within the one year factory calibration period when used for certification. A copy of the manufacturer calibration document shall be made available to Aginode if requested. | I17: Van elk meettoestel dat voor certificering gebruikt wordt, mag de fabrieksijkingstermijn (calibratie) nog niet verstreken zijn. Als Aginode dat vraagt, moet u een kopie van het fabrieksijkingsdocument voorleggen. | J17: Each field tester must be within the one year factory calibration period when used for certification. A copy of the manufacturer calibration document shall be made available to Aginode if requested. | K17: Each field tester must be within the one year factory calibration period when used for certification. A copy of the manufacturer calibration document shall be made available to Aginode if requested. | L17: Each field tester must be within the one year factory calibration period when used for certification. A copy of the manufacturer calibration document shall be made available to Aginode if requested. | M17: Each field tester must be within the one year factory calibration period when used for certification. A copy of the manufacturer calibration document shall be made available to Aginode if requested. | N17: Each field tester must be within the one year factory calibration period when used for certification. A copy of the manufacturer calibration document shall be made available to Aginode if requested. | O17: Each field tester must be within the one year factory calibration period when used for certification. A copy of the manufacturer calibration document shall be made available to Aginode if requested.
A18: 18 | B18: Select Language on Tab General | C18: Make sure that the number of test results provided are equal to the number of links detailed on the submission form and they are all passes. | D18: Assurez-vous que le nombre de résultats de test fournis est bien le même que le nombre de liens indiqué sur le formulaire de soumission. | E18: Make sure that the number of test results provided are equal to the number of links detailed on the submission form and they are all passes. | F18: Make sure that the number of test results provided are equal to the number of links detailed on the submission form and they are all passes. | G18: Make sure that the number of test results provided are equal to the number of links detailed on the submission form and they are all passes. | H18: Make sure that the number of test results provided are equal to the number of links detailed on the submission form and they are all passes. | I18: Vergewis u ervan dat het bezorgde aantal testresultaten gelijk is aan het aantal links dat op het aanvraagformulier vermeld staat. | J18: Make sure that the number of test results provided are equal to the number of links detailed on the submission form and they are all passes. | K18: Make sure that the number of test results provided are equal to the number of links detailed on the submission form and they are all passes. | L18: Make sure that the number of test results provided are equal to the number of links detailed on the submission form and they are all passes. | M18: Make sure that the number of test results provided are equal to the number of links detailed on the submission form and they are all passes. | N18: Make sure that the number of test results provided are equal to the number of links detailed on the submission form and they are all passes. | O18: Make sure that the number of test results provided are equal to the number of links detailed on the submission form and they are all passes.
A19: 19 | B19: Select Language on Tab General | C19: When the installation contains cross connections or service presentations which need to be certified, then a separate submission form and test results file has to be provided. | D19: Si l’installation contient des frettes ou panneaux de présentation de services qui doivent être certifiés, alors un formulaire de soumission séparé et le fichier des résultats de test associés doivent être fournis. | E19: When the installation contains cross connections or service presentations which need to be certified, then a separate submission form and test results file has to be provided. | F19: When the installation contains cross connections or service presentations which need to be certified, then a separate submission form and test results file has to be provided. | G19: When the installation contains cross connections or service presentations which need to be certified, then a separate submission form and test results file has to be provided. | H19: When the installation contains cross connections or service presentations which need to be certified, then a separate submission form and test results file has to be provided. | I19: Als de installatie cross-connect links of servicepresentaties omvat die gecertificeerd moeten worden, dan moet u daarvoor een afzonderlijk aanvraagformulier en een apart testresultatenbestand indienen. | J19: When the installation contains cross connections or service presentations which need to be certified, then a separate submission form and test results file has to be provided. | K19: When the installation contains cross connections or service presentations which need to be certified, then a separate submission form and test results file has to be provided. | L19: When the installation contains cross connections or service presentations which need to be certified, then a separate submission form and test results file has to be provided. | M19: When the installation contains cross connections or service presentations which need to be certified, then a separate submission form and test results file has to be provided. | N19: When the installation contains cross connections or service presentations which need to be certified, then a separate submission form and test results file has to be provided. | O19: When the installation contains cross connections or service presentations which need to be certified, then a separate submission form and test results file has to be provided.
A20: 20 | B20: Select Language on Tab General | C20: Cross connections need to be tested separately according to our field test procedure. | D20: Les frettes doivent être testées séparément, conformément à notre procédure de test sur le terrain. | E20: Cross connections need to be tested separately according to our field test procedure. | F20: Cross connections need to be tested separately according to our field test procedure. | G20: Cross connections need to be tested separately according to our field test procedure. | H20: Cross connections need to be tested separately according to our field test procedure. | I20: Cross-connect links moeten afzonderlijk worden getest volgens onze veldtestprocedure. | J20: Cross connections need to be tested separately according to our field test procedure. | K20: Cross connections need to be tested separately according to our field test procedure. | L20: Cross connections need to be tested separately according to our field test procedure. | M20: Cross connections need to be tested separately according to our field test procedure. | N20: Cross connections need to be tested separately according to our field test procedure. | O20: Cross connections need to be tested separately according to our field test procedure.
A21: 21 | B21: Select Language on Tab General | C21: The “as-Built” documentation including, but not limited to, rack layouts, cable routing and node id’s are not needed to obtain the Warranty certificate, but may be requested during the certification process. | D21: La documentation “en l’état” qui comprend, sans s’y limiter, les agencements des baies, le cheminement des câbles et les identifiants des prises terminales, ne sont plus nécessaires pour obtenir le certificat de garantie, mais peuvent être demandés ultérieurement en cas de réclamation par rapport à la garantie. | E21: The “as-Built” documentation including, but not limited to, rack layouts, cable routing and node id’s are not needed to obtain the Warranty certificate, but may be requested during the certification process. | F21: The “as-Built” documentation including, but not limited to, rack layouts, cable routing and node id’s are not needed to obtain the Warranty certificate, but may be requested during the certification process. | G21: The “as-Built” documentation including, but not limited to, rack layouts, cable routing and node id’s are not needed to obtain the Warranty certificate, but may be requested during the certification process. | H21: The “as-Built” documentation including, but not limited to, rack layouts, cable routing and node id’s are not needed to obtain the Warranty certificate, but may be requested during the certification process. | I21: De bouw- en installatiedocumentatie, met inbegrip van o.a. racklay-outs, kabelroutering en link-ID’s, hoeft u niet langer over te maken wanneer u het garantiecertificaat aanvraagt. Deze documentatie kan wel later worden opgevraagd als er een garantieclaim wordt ingediend. | J21: The “as-Built” documentation including, but not limited to, rack layouts, cable routing and node id’s are not needed to obtain the Warranty certificate, but may be requested during the certification process. | K21: The “as-Built” documentation including, but not limited to, rack layouts, cable routing and node id’s are not needed to obtain the Warranty certificate, but may be requested during the certification process. | L21: The “as-Built” documentation including, but not limited to, rack layouts, cable routing and node id’s are not needed to obtain the Warranty certificate, but may be requested during the certification process. | M21: The “as-Built” documentation including, but not limited to, rack layouts, cable routing and node id’s are not needed to obtain the Warranty certificate, but may be requested during the certification process. | N21: The “as-Built” documentation including, but not limited to, rack layouts, cable routing and node id’s are not needed to obtain the Warranty certificate, but may be requested during the certification process. | O21: The “as-Built” documentation including, but not limited to, rack layouts, cable routing and node id’s are not needed to obtain the Warranty certificate, but may be requested during the certification process.
... A23: 23 | B23: Select Language on Tab General | C23: For our Essential product range a separate Link performance conformity certificate can be obtained on-line from our website. | D23: Pour notre gamme de produits Essential, un certificat de conformité de performance Lien séparé peut être obtenu en ligne sur notre site web. | E23: For our Essential product range a separate Link performance conformity certificate can be obtained on-line from our website. | F23: For our Essential product range a separate Link performance conformity certificate can be obtained on-line from our website. | G23: For our Essential product range a separate Link performance conformity certificate can be obtained on-line from our website. | H23: For our Essential product range a separate Link performance conformity certificate can be obtained on-line from our website. | I23: Voor ons Essential-productgama kunt u op onze website een on-line Link Warranty verkrijgen. | J23: For our Essential product range a separate Link performance conformity certificate can be obtained on-line from our website. | K23: For our Essential product range a separate Link performance conformity certificate can be obtained on-line from our website. | L23: For our Essential product range a separate Link performance conformity certificate can be obtained on-line from our website. | M23: For our Essential product range a separate Link performance conformity certificate can be obtained on-line from our website. | N23: For our Essential product range a separate Link performance conformity certificate can be obtained on-line from our website. | O23: For our Essential product range a separate Link performance conformity certificate can be obtained on-line from our website.
A24: 24 | B24: Select Language on Tab General
B26: Remember to extend named range "NotesLanguage" if you go below Row 20
